BEGIN:VCALENDAR
VERSION:2.0
PRODID:-//Newton Bridge Academy - ECPv6.15.17.1//NONSGML v1.0//EN
CALSCALE:GREGORIAN
METHOD:PUBLISH
X-WR-CALNAME:Newton Bridge Academy
X-ORIGINAL-URL:https://www.newtonbridge-cit.co.uk
X-WR-CALDESC:Events for Newton Bridge Academy
REFRESH-INTERVAL;VALUE=DURATION:PT1H
X-Robots-Tag:noindex
X-PUBLISHED-TTL:PT1H
BEGIN:VTIMEZONE
TZID:Europe/London
BEGIN:DAYLIGHT
TZOFFSETFROM:+0000
TZOFFSETTO:+0100
TZNAME:BST
DTSTART:20250330T010000
END:DAYLIGHT
BEGIN:STANDARD
TZOFFSETFROM:+0100
TZOFFSETTO:+0000
TZNAME:GMT
DTSTART:20251026T010000
END:STANDARD
BEGIN:DAYLIGHT
TZOFFSETFROM:+0000
TZOFFSETTO:+0100
TZNAME:BST
DTSTART:20260329T010000
END:DAYLIGHT
BEGIN:STANDARD
TZOFFSETFROM:+0100
TZOFFSETTO:+0000
TZNAME:GMT
DTSTART:20261025T010000
END:STANDARD
BEGIN:DAYLIGHT
TZOFFSETFROM:+0000
TZOFFSETTO:+0100
TZNAME:BST
DTSTART:20270328T010000
END:DAYLIGHT
BEGIN:STANDARD
TZOFFSETFROM:+0100
TZOFFSETTO:+0000
TZNAME:GMT
DTSTART:20271031T010000
END:STANDARD
END:VTIMEZONE
BEGIN:VEVENT
DTSTART;VALUE=DATE:20260402
DTEND;VALUE=DATE:20260403
DTSTAMP:20260423T105344
CREATED:20250709T075855Z
LAST-MODIFIED:20250709T075855Z
UID:13902-1775088000-1775174399@www.newtonbridge-cit.co.uk
SUMMARY:End of Term
DESCRIPTION:
URL:https://www.newtonbridge-cit.co.uk/event/end-of-term-6/
END:VEVENT
BEGIN:VEVENT
DTSTART;VALUE=DATE:20260420
DTEND;VALUE=DATE:20260421
DTSTAMP:20260423T105344
CREATED:20250709T075937Z
LAST-MODIFIED:20250709T075937Z
UID:13904-1776643200-1776729599@www.newtonbridge-cit.co.uk
SUMMARY:Inset Day - schools closed
DESCRIPTION:
URL:https://www.newtonbridge-cit.co.uk/event/inset-day-schools-closed-3/
END:VEVENT
BEGIN:VEVENT
DTSTART;VALUE=DATE:20260421
DTEND;VALUE=DATE:20260422
DTSTAMP:20260423T105344
CREATED:20250709T080005Z
LAST-MODIFIED:20250709T080005Z
UID:13906-1776729600-1776815999@www.newtonbridge-cit.co.uk
SUMMARY:Back to School
DESCRIPTION:
URL:https://www.newtonbridge-cit.co.uk/event/back-to-school-10/
END:VEVENT
BEGIN:VEVENT
DTSTART;VALUE=DATE:20260504
DTEND;VALUE=DATE:20260505
DTSTAMP:20260423T105344
CREATED:20250709T080046Z
LAST-MODIFIED:20250709T080046Z
UID:13908-1777852800-1777939199@www.newtonbridge-cit.co.uk
SUMMARY:Bank Holiday - schools closed
DESCRIPTION:
URL:https://www.newtonbridge-cit.co.uk/event/bank-holiday-schools-closed/
END:VEVENT
BEGIN:VEVENT
DTSTART;VALUE=DATE:20260522
DTEND;VALUE=DATE:20260523
DTSTAMP:20260423T105344
CREATED:20250709T080113Z
LAST-MODIFIED:20250709T080113Z
UID:13910-1779408000-1779494399@www.newtonbridge-cit.co.uk
SUMMARY:Half Term
DESCRIPTION:
URL:https://www.newtonbridge-cit.co.uk/event/half-term-5/
END:VEVENT
BEGIN:VEVENT
DTSTART;VALUE=DATE:20260601
DTEND;VALUE=DATE:20260602
DTSTAMP:20260423T105344
CREATED:20250709T080142Z
LAST-MODIFIED:20250709T080142Z
UID:13912-1780272000-1780358399@www.newtonbridge-cit.co.uk
SUMMARY:Back to School
DESCRIPTION:
URL:https://www.newtonbridge-cit.co.uk/event/back-to-school-11/
END:VEVENT
BEGIN:VEVENT
DTSTART;VALUE=DATE:20260722
DTEND;VALUE=DATE:20260723
DTSTAMP:20260423T105344
CREATED:20250709T080213Z
LAST-MODIFIED:20250709T080213Z
UID:13914-1784678400-1784764799@www.newtonbridge-cit.co.uk
SUMMARY:End of Term
DESCRIPTION:
URL:https://www.newtonbridge-cit.co.uk/event/end-of-term-7/
END:VEVENT
END:VCALENDAR